BEGIN:VCALENDAR
VERSION:2.0
PRODID:-//wp-events-plugin.com//7.2.3.1//EN
TZID:Europe/Berlin
X-WR-TIMEZONE:Europe/Berlin
BEGIN:VEVENT
UID:231@sc-babenhausen.de
DTSTART;TZID=Europe/Berlin:20230907T173000
DTEND;TZID=Europe/Berlin:20230907T190000
DTSTAMP:20230712T171252Z
URL:https://sc-babenhausen.de/veranstaltungen/c2-training-2-2023-09-07/
SUMMARY:C2-Training
DESCRIPTION:
ATTACH;FMTTYPE=image/jpeg:https://sc-babenhausen.de/wp-content/uploads/202
 3/07/football-2778583_1280.jpg
CATEGORIES:Fußball
LOCATION:Sportplatz Häger\, Schröttinghausener Str. 14\, Werther\, NRW\, 
 33824\, Deutschland
X-APPLE-STRUCTURED-LOCATION;VALUE=URI;X-ADDRESS=Schröttinghausener Str. 14
 \, Werther\, NRW\, 33824\, Deutschland;X-APPLE-RADIUS=100;X-TITLE=Sportpla
 tz Häger:geo:0,0
END:VEVENT
BEGIN:VTIMEZONE
TZID:Europe/Berlin
X-LIC-LOCATION:Europe/Berlin
BEGIN:DAYLIGHT
DTSTART:20230326T030000
TZOFFSETFROM:+0100
TZOFFSETTO:+0200
TZNAME:CEST
END:DAYLIGHT
END:VTIMEZONE
END:VCALENDAR