BEGIN:VCALENDAR
VERSION:2.0
PRODID:-//wp-events-plugin.com//7.2.3.1//EN
TZID:Europe/Berlin
X-WR-TIMEZONE:Europe/Berlin
BEGIN:VEVENT
UID:221@sc-babenhausen.de
DTSTART;TZID=Europe/Berlin:20230829T173000
DTEND;TZID=Europe/Berlin:20230829T190000
DTSTAMP:20230712T171236Z
URL:https://sc-babenhausen.de/veranstaltungen/c2-training-2023-08-29/
SUMMARY:C2-Training
DESCRIPTION:
ATTACH;FMTTYPE=image/jpeg:https://sc-babenhausen.de/wp-content/uploads/202
 3/07/football-2778583_1280.jpg
CATEGORIES:Fußball
LOCATION:Sportplatz Babenhausen (Bavostr.)\, Bavostr.\, Bielefeld\, NRW\, 3
 3619\, Deutschland
X-APPLE-STRUCTURED-LOCATION;VALUE=URI;X-ADDRESS=Bavostr.\, Bielefeld\, NRW\
 , 33619\, Deutschland;X-APPLE-RADIUS=100;X-TITLE=Sportplatz Babenhausen (B
 avostr.):geo:0,0
END:VEVENT
BEGIN:VTIMEZONE
TZID:Europe/Berlin
X-LIC-LOCATION:Europe/Berlin
BEGIN:DAYLIGHT
DTSTART:20230326T030000
TZOFFSETFROM:+0100
TZOFFSETTO:+0200
TZNAME:CEST
END:DAYLIGHT
END:VTIMEZONE
END:VCALENDAR